Workbook

Sheet Informacion Basica
C1: JUNTA DE CALIFICACIÓN DEL META
A2: Iva
A3: 0 | C3: Formato de carga de datos para creación de factura - PSE
C4: Version 1.0
A5: Consecutivo | B5: Razon Social de la Entidad (ARL, AFP y EPS) | C5: NIT de la Entidad | D5: Nombres y Apellidos del paciente | E5: Identificacion del paciente | F5: VALOR HONORARIOS(Lista desplegable) | G5: Valor Unitario | H5: Fecha
A6: =RANDBETWEEN(1,10000000) -> 9570144 | G6: =IF(ISBLANK(F6), "", VLOOKUP(F6, $K$6:$L$48, 2, FALSE)) | H6: =IF(B6="","",TODAY()) | K6: PLENOS 2026 | L6: 1750905
A7: =RANDBETWEEN(1,10000000) -> 8018277 | G7: =IF(ISBLANK(F7), "", VLOOKUP(F7, $K$12:$L$41, 2, FALSE)) | H7: =IF(B7="","",TODAY()) | K7: EXC. 2025 - 2026 | L7: 327405
A8: =RANDBETWEEN(1,10000000) -> 1254986 | G8: =IF(ISBLANK(F8), "", VLOOKUP(F8, $K$12:$L$41, 2, FALSE)) | H8: =IF(B8="","",TODAY()) | K8: EXC. 2024 - 2026 | L8: 450905
A9: =RANDBETWEEN(1,10000000) -> 4560335 | G9: =IF(ISBLANK(F9), "", VLOOKUP(F9, $K$12:$L$41, 2, FALSE)) | H9: =IF(B9="","",TODAY()) | K9: EXC. 2023 - 2026 | L9: 590905
A10: =RANDBETWEEN(1,10000000) -> 4911687 | G10: =IF(ISBLANK(F10), "", VLOOKUP(F10, $K$12:$L$41, 2, FALSE)) | H10: =IF(B10="","",TODAY()) | K10: EXC. 2022 - 2026 | L10: 750905
A11: =RANDBETWEEN(1,10000000) -> 7991094 | G11: =IF(ISBLANK(F11), "", VLOOKUP(F11, $K$12:$L$41, 2, FALSE)) | H11: =IF(B11="","",TODAY()) | K11: EXC. 2021 - 2026 | L11: 842379
A12: =RANDBETWEEN(1,10000000) -> 4362795 | G12: =IF(ISBLANK(F12), "", VLOOKUP(F12, $K$12:$L$41, 2, FALSE)) | H12: =IF(B12="","",TODAY()) | K12: PLENOS 2025 | L12: 1423500
A13: =RANDBETWEEN(1,10000000) -> 9286856 | G13: =IF(ISBLANK(F13), "", VLOOKUP(F13, $K$12:$L$41, 2, FALSE)) | H13: =IF(B13="","",TODAY()) | K13: EXC. 2024 - 2025 | L13: 123500
A14: =RANDBETWEEN(1,10000000) -> 1464713 | G14: =IF(ISBLANK(F14), "", VLOOKUP(F14, $K$12:$L$41, 2, FALSE)) | H14: =IF(B14="","",TODAY()) | K14: EXC. 2023 - 2025 | L14: 263500
A15: =RANDBETWEEN(1,10000000) -> 6033555 | G15: =IF(ISBLANK(F15), "", VLOOKUP(F15, $K$12:$L$41, 2, FALSE)) | H15: =IF(B15="","",TODAY()) | K15: EXC. 2022 - 2025 | L15: 423500
A16: =RANDBETWEEN(1,10000000) -> 4771823 | G16: =IF(ISBLANK(F16), "", VLOOKUP(F16, $K$12:$L$41, 2, FALSE)) | H16: =IF(B16="","",TODAY()) | K16: EXC. 2021 - 2025 | L16: 514974
A17: =RANDBETWEEN(1,10000000) -> 6675324 | G17: =IF(ISBLANK(F17), "", VLOOKUP(F17, $K$12:$L$41, 2, FALSE)) | H17: =IF(B17="","",TODAY()) | K17: EXC. 2020 - 2025 | L17: 545697
A18: =RANDBETWEEN(1,10000000) -> 1030492 | G18: =IF(ISBLANK(F18), "", VLOOKUP(F18, $K$12:$L$41, 2, FALSE)) | H18: =IF(B18="","",TODAY()) | K18: EXC. 2019 -2025 | L18: 595384
... A48: =RANDBETWEEN(1,10000000) -> 4123008 | G48: =IF(ISBLANK(F48), "", VLOOKUP(F48, $K$12:$L$41, 2, FALSE)) | H48: =IF(B48="","",TODAY()) | K48: EXC. 2017-2020 | L48: 140086
A49: =RANDBETWEEN(1,10000000) -> 3534923 | G49: =IF(ISBLANK(F49), "", VLOOKUP(F49, $K$12:$L$41, 2, FALSE)) | H49: =IF(B49="","",TODAY())
A50: =RANDBETWEEN(1,10000000) -> 8501948 | G50: =IF(ISBLANK(F50), "", VLOOKUP(F50, $K$12:$L$41, 2, FALSE)) | H50: =IF(B50="","",TODAY())
A51: =RANDBETWEEN(1,10000000) -> 8900935 | G51: =IF(ISBLANK(F51), "", VLOOKUP(F51, $K$12:$L$41, 2, FALSE)) | H51: =IF(B51="","",TODAY())
A52: =RANDBETWEEN(1,10000000) -> 3851511 | G52: =IF(ISBLANK(F52), "", VLOOKUP(F52, $K$12:$L$41, 2, FALSE)) | H52: =IF(B52="","",TODAY())
A53: =RANDBETWEEN(1,10000000) -> 3063015 | G53: =IF(ISBLANK(F53), "", VLOOKUP(F53, $K$12:$L$41, 2, FALSE)) | H53: =IF(B53="","",TODAY())
A54: =RANDBETWEEN(1,10000000) -> 5430088 | G54: =IF(ISBLANK(F54), "", VLOOKUP(F54, $K$12:$L$41, 2, FALSE)) | H54: =IF(B54="","",TODAY())
A55: =RANDBETWEEN(1,10000000) -> 6087925 | G55: =IF(ISBLANK(F55), "", VLOOKUP(F55, $K$12:$L$41, 2, FALSE)) | H55: =IF(B55="","",TODAY())
A56: =RANDBETWEEN(1,10000000) -> 8138190 | G56: =IF(ISBLANK(F56), "", VLOOKUP(F56, $K$12:$L$41, 2, FALSE)) | H56: =IF(B56="","",TODAY())
A57: =RANDBETWEEN(1,10000000) -> 6716773 | G57: =IF(ISBLANK(F57), "", VLOOKUP(F57, $K$12:$L$41, 2, FALSE)) | H57: =IF(B57="","",TODAY())
A58: =RANDBETWEEN(1,10000000) -> 7277962 | G58: =IF(ISBLANK(F58), "", VLOOKUP(F58, $K$12:$L$41, 2, FALSE)) | H58: =IF(B58="","",TODAY())
A59: =RANDBETWEEN(1,10000000) -> 1408579 | G59: =IF(ISBLANK(F59), "", VLOOKUP(F59, $K$12:$L$41, 2, FALSE)) | H59: =IF(B59="","",TODAY())
A60: =RANDBETWEEN(1,10000000) -> 5502175 | G60: =IF(ISBLANK(F60), "", VLOOKUP(F60, $K$12:$L$41, 2, FALSE)) | H60: =IF(B60="","",TODAY())
... A200: =RANDBETWEEN(1,10000000) -> 8727011 | G200: =IF(ISBLANK(F200), "", VLOOKUP(F200, $K$12:$L$41, 2, FALSE)) | H200: =IF(B200="","",TODAY())
A201: =RANDBETWEEN(1,10000000) -> 4024613 | H201: =IF(B201="","",TODAY())
A202: =RANDBETWEEN(1,10000000) -> 1378266 | H202: =IF(B202="","",TODAY())
A203: =RANDBETWEEN(1,10000000) -> 1069360 | H203: =IF(B203="","",TODAY())
A204: =RANDBETWEEN(1,10000000) -> 538400 | H204: =IF(B204="","",TODAY())
A205: =RANDBETWEEN(1,10000000) -> 6490828 | H205: =IF(B205="","",TODAY())
A206: =RANDBETWEEN(1,10000000) -> 3446444 | H206: =IF(B206="","",TODAY())
A207: =RANDBETWEEN(1,10000000) -> 524800 | H207: =IF(B207="","",TODAY())
A208: =RANDBETWEEN(1,10000000) -> 5250125 | H208: =IF(B208="","",TODAY())
...

Sheet Planilla PSE
A1: Seleccione, copie y pegue el contenido de las casillas en un editor de texto
A2: =IF('Informacion Basica'!B6="","",CONCATENATE('Informacion Basica'!B6,"|",'Informacion Basica'!C6,"|",'Informacion Basica'!D6,"|",'Informacion Basica'!E6,"|",'Informacion Basica'!A6,"|",'Informacion Basica'!G6,"|","0","|",TEXT('Informacion Basica'!H6,"dd/mm/yyyy")))
A3: =IF('Informacion Basica'!B7="","",CONCATENATE('Informacion Basica'!B7,"|",'Informacion Basica'!C7,"|",'Informacion Basica'!D7,"|",'Informacion Basica'!E7,"|",'Informacion Basica'!A7,"|",'Informacion Basica'!G7,"|","0","|",TEXT('Informacion Basica'!H7,"dd/mm/yyyy")))
A4: =IF('Informacion Basica'!B8="","",CONCATENATE('Informacion Basica'!B8,"|",'Informacion Basica'!C8,"|",'Informacion Basica'!D8,"|",'Informacion Basica'!E8,"|",'Informacion Basica'!A8,"|",'Informacion Basica'!G8,"|","0","|",TEXT('Informacion Basica'!H8,"dd/mm/yyyy")))
A5: =IF('Informacion Basica'!B9="","",CONCATENATE('Informacion Basica'!B9,"|",'Informacion Basica'!C9,"|",'Informacion Basica'!D9,"|",'Informacion Basica'!E9,"|",'Informacion Basica'!A9,"|",'Informacion Basica'!G9,"|","0","|",TEXT('Informacion Basica'!H9,"dd/mm/yyyy")))
A6: =IF('Informacion Basica'!B10="","",CONCATENATE('Informacion Basica'!B10,"|",'Informacion Basica'!C10,"|",'Informacion Basica'!D10,"|",'Informacion Basica'!E10,"|",'Informacion Basica'!A10,"|",'Informacion Basica'!G10,"|","0","|",TEXT('Informacion Basica'!H10,"dd/mm/yyyy")))
A7: =IF('Informacion Basica'!B11="","",CONCATENATE('Informacion Basica'!B11,"|",'Informacion Basica'!C11,"|",'Informacion Basica'!D11,"|",'Informacion Basica'!E11,"|",'Informacion Basica'!A11,"|",'Informacion Basica'!G11,"|","0","|",TEXT('Informacion Basica'!H11,"dd/mm/yyyy")))
A8: =IF('Informacion Basica'!B12="","",CONCATENATE('Informacion Basica'!B12,"|",'Informacion Basica'!C12,"|",'Informacion Basica'!D12,"|",'Informacion Basica'!E12,"|",'Informacion Basica'!A12,"|",'Informacion Basica'!G12,"|","0","|",TEXT('Informacion Basica'!H12,"dd/mm/yyyy")))
A9: =IF('Informacion Basica'!B13="","",CONCATENATE('Informacion Basica'!B13,"|",'Informacion Basica'!C13,"|",'Informacion Basica'!D13,"|",'Informacion Basica'!E13,"|",'Informacion Basica'!A13,"|",'Informacion Basica'!G13,"|","0","|",TEXT('Informacion Basica'!H13,"dd/mm/yyyy")))
A10: =IF('Informacion Basica'!B14="","",CONCATENATE('Informacion Basica'!B14,"|",'Informacion Basica'!C14,"|",'Informacion Basica'!D14,"|",'Informacion Basica'!E14,"|",'Informacion Basica'!A14,"|",'Informacion Basica'!G14,"|","0","|",TEXT('Informacion Basica'!H14,"dd/mm/yyyy")))
A11: =IF('Informacion Basica'!B15="","",CONCATENATE('Informacion Basica'!B15,"|",'Informacion Basica'!C15,"|",'Informacion Basica'!D15,"|",'Informacion Basica'!E15,"|",'Informacion Basica'!A15,"|",'Informacion Basica'!G15,"|","0","|",TEXT('Informacion Basica'!H15,"dd/mm/yyyy")))
A12: =IF('Informacion Basica'!B16="","",CONCATENATE('Informacion Basica'!B16,"|",'Informacion Basica'!C16,"|",'Informacion Basica'!D16,"|",'Informacion Basica'!E16,"|",'Informacion Basica'!A16,"|",'Informacion Basica'!G16,"|","0","|",TEXT('Informacion Basica'!H16,"dd/mm/yyyy")))
A13: =IF('Informacion Basica'!B17="","",CONCATENATE('Informacion Basica'!B17,"|",'Informacion Basica'!C17,"|",'Informacion Basica'!D17,"|",'Informacion Basica'!E17,"|",'Informacion Basica'!A17,"|",'Informacion Basica'!G17,"|","0","|",TEXT('Informacion Basica'!H17,"dd/mm/yyyy")))
... A102: =IF('Informacion Basica'!B106="","",CONCATENATE('Informacion Basica'!B106,"|",'Informacion Basica'!C106,"|",'Informacion Basica'!D106,"|",'Informacion Basica'!E106,"|",'Informacion Basica'!A106,"|",'Informacion Basica'!G106,"|","0","|",TEXT('Informacion Basica'!H106,"dd/mm/yyyy")))
